BEGIN:VCALENDAR
VERSION:2.0
PRODID:-//South Jersey Jazz Society - ECPv6.15.20//NONSGML v1.0//EN
CALSCALE:GREGORIAN
METHOD:PUBLISH
X-ORIGINAL-URL:https://southjerseyjazz.org
X-WR-CALDESC:Events for South Jersey Jazz Society
REFRESH-INTERVAL;VALUE=DURATION:PT1H
X-Robots-Tag:noindex
X-PUBLISHED-TTL:PT1H
BEGIN:VTIMEZONE
TZID:America/New_York
BEGIN:DAYLIGHT
TZOFFSETFROM:-0500
TZOFFSETTO:-0400
TZNAME:EDT
DTSTART:20190310T070000
END:DAYLIGHT
BEGIN:STANDARD
TZOFFSETFROM:-0400
TZOFFSETTO:-0500
TZNAME:EST
DTSTART:20191103T060000
END:STANDARD
BEGIN:DAYLIGHT
TZOFFSETFROM:-0500
TZOFFSETTO:-0400
TZNAME:EDT
DTSTART:20200308T070000
END:DAYLIGHT
BEGIN:STANDARD
TZOFFSETFROM:-0400
TZOFFSETTO:-0500
TZNAME:EST
DTSTART:20201101T060000
END:STANDARD
BEGIN:DAYLIGHT
TZOFFSETFROM:-0500
TZOFFSETTO:-0400
TZNAME:EDT
DTSTART:20210314T070000
END:DAYLIGHT
BEGIN:STANDARD
TZOFFSETFROM:-0400
TZOFFSETTO:-0500
TZNAME:EST
DTSTART:20211107T060000
END:STANDARD
END:VTIMEZONE
BEGIN:VEVENT
DTSTART;TZID=America/New_York:20201113T190000
DTEND;TZID=America/New_York:20201113T203000
DTSTAMP:20260422T000949
CREATED:20201025T053041Z
LAST-MODIFIED:20201025T053046Z
UID:10000179-1605294000-1605299400@southjerseyjazz.org
SUMMARY:Mike Ian & Friends
DESCRIPTION:Nov 13   Mike Ian & Friends \n(Tom Cottone – Drums  Jason Long – Piano Rob Swanson – Bass) \nWindjammer Diner Bar & Grille\n18 MacArthurBlvd.\nSomers Point\, NJ 08244\n609 365 8056\nOne Show 7pm – 8:30pm (Free)
URL:https://southjerseyjazz.org/event/mike-ian-friends/
LOCATION:Windjammer Diner Bar & Grille\, 18 MacArthur Blvd\, Somers Point\, NJ\, 08244\, United States
CATEGORIES:Events,Festival
ATTACH;FMTTYPE=image/jpeg:https://southjerseyjazz.org/wp-content/uploads/2020/10/Mike-Ian-Photo-300.jpg
END:VEVENT
END:VCALENDAR