BEGIN:VCALENDAR
VERSION:2.0
PRODID:-//South Jersey Jazz Society - ECPv6.15.20//NONSGML v1.0//EN
CALSCALE:GREGORIAN
METHOD:PUBLISH
X-ORIGINAL-URL:https://southjerseyjazz.org
X-WR-CALDESC:Events for South Jersey Jazz Society
REFRESH-INTERVAL;VALUE=DURATION:PT1H
X-Robots-Tag:noindex
X-PUBLISHED-TTL:PT1H
BEGIN:VTIMEZONE
TZID:America/New_York
BEGIN:DAYLIGHT
TZOFFSETFROM:-0500
TZOFFSETTO:-0400
TZNAME:EDT
DTSTART:20200308T070000
END:DAYLIGHT
BEGIN:STANDARD
TZOFFSETFROM:-0400
TZOFFSETTO:-0500
TZNAME:EST
DTSTART:20201101T060000
END:STANDARD
BEGIN:DAYLIGHT
TZOFFSETFROM:-0500
TZOFFSETTO:-0400
TZNAME:EDT
DTSTART:20210314T070000
END:DAYLIGHT
BEGIN:STANDARD
TZOFFSETFROM:-0400
TZOFFSETTO:-0500
TZNAME:EST
DTSTART:20211107T060000
END:STANDARD
BEGIN:DAYLIGHT
TZOFFSETFROM:-0500
TZOFFSETTO:-0400
TZNAME:EDT
DTSTART:20220313T070000
END:DAYLIGHT
BEGIN:STANDARD
TZOFFSETFROM:-0400
TZOFFSETTO:-0500
TZNAME:EST
DTSTART:20221106T060000
END:STANDARD
END:VTIMEZONE
BEGIN:VEVENT
DTSTART;TZID=America/New_York:20210821T180000
DTEND;TZID=America/New_York:20210821T180000
DTSTAMP:20260421T190928
CREATED:20210819T011155Z
LAST-MODIFIED:20210821T184219Z
UID:10000195-1629568800-1629568800@southjerseyjazz.org
SUMMARY:Tim Lekan Returns!
DESCRIPTION:Canceled Due to Weather\n \nTim Lekan\nPlease join us for an evening of beautiful music when our old friend and jazz bassist extraordinaire Tim Lekan returns for a visit to Ventnor.\n \nSome of South Jersey’s finest musicians will accompany their good friend for this free\, intimate outdoor porch performance. (We’ll move it indoors if it rains.)\nFeaturing: \nTim Lekan – bass\nBob Shomo – drums\nTamara Dement – violin\nBehn Gillece – vibraphone\n. \nPlease bring your beach chair\, your beverage\, and a generous donation for the musicians. We hope to see you here!\n 
URL:https://southjerseyjazz.org/event/tim-lekan-returns/
LOCATION:Outdoor Porch Performance\, 131 N. Troy Ave\, Ventnor\, NJ\, 08406\, United States
CATEGORIES:Events
ATTACH;FMTTYPE=image/jpeg:https://southjerseyjazz.org/wp-content/uploads/2021/08/Tim-feature-1.jpg
END:VEVENT
END:VCALENDAR