BEGIN:VCALENDAR
VERSION:2.0
PRODID:-//South Jersey Jazz Society - ECPv6.15.20//NONSGML v1.0//EN
CALSCALE:GREGORIAN
METHOD:PUBLISH
X-WR-CALNAME:South Jersey Jazz Society
X-ORIGINAL-URL:https://southjerseyjazz.org
X-WR-CALDESC:Events for South Jersey Jazz Society
REFRESH-INTERVAL;VALUE=DURATION:PT1H
X-Robots-Tag:noindex
X-PUBLISHED-TTL:PT1H
BEGIN:VTIMEZONE
TZID:America/New_York
BEGIN:DAYLIGHT
TZOFFSETFROM:-0500
TZOFFSETTO:-0400
TZNAME:EDT
DTSTART:20160313T070000
END:DAYLIGHT
BEGIN:STANDARD
TZOFFSETFROM:-0400
TZOFFSETTO:-0500
TZNAME:EST
DTSTART:20161106T060000
END:STANDARD
BEGIN:DAYLIGHT
TZOFFSETFROM:-0500
TZOFFSETTO:-0400
TZNAME:EDT
DTSTART:20170312T070000
END:DAYLIGHT
BEGIN:STANDARD
TZOFFSETFROM:-0400
TZOFFSETTO:-0500
TZNAME:EST
DTSTART:20171105T060000
END:STANDARD
BEGIN:DAYLIGHT
TZOFFSETFROM:-0500
TZOFFSETTO:-0400
TZNAME:EDT
DTSTART:20180311T070000
END:DAYLIGHT
BEGIN:STANDARD
TZOFFSETFROM:-0400
TZOFFSETTO:-0500
TZNAME:EST
DTSTART:20181104T060000
END:STANDARD
BEGIN:DAYLIGHT
TZOFFSETFROM:-0500
TZOFFSETTO:-0400
TZNAME:EDT
DTSTART:20190310T070000
END:DAYLIGHT
BEGIN:STANDARD
TZOFFSETFROM:-0400
TZOFFSETTO:-0500
TZNAME:EST
DTSTART:20191103T060000
END:STANDARD
BEGIN:DAYLIGHT
TZOFFSETFROM:-0500
TZOFFSETTO:-0400
TZNAME:EDT
DTSTART:20200308T070000
END:DAYLIGHT
BEGIN:STANDARD
TZOFFSETFROM:-0400
TZOFFSETTO:-0500
TZNAME:EST
DTSTART:20201101T060000
END:STANDARD
END:VTIMEZONE
BEGIN:VEVENT
DTSTART;TZID=America/New_York:20190607T193000
DTEND;TZID=America/New_York:20190607T220000
DTSTAMP:20260421T130532
CREATED:20190528T211413Z
LAST-MODIFIED:20190528T211413Z
UID:10000139-1559935800-1559944800@southjerseyjazz.org
SUMMARY:Grant Stewart Quartet
DESCRIPTION:
URL:https://southjerseyjazz.org/event/grant-stewart-quartet/
LOCATION:Lord of Lutheran Church\, 1 Winchester Court\, Tabernacle\, NJ\, 08088\, United States
CATEGORIES:Events
ATTACH;FMTTYPE=image/jpeg:https://southjerseyjazz.org/wp-content/uploads/2019/05/June2019-page-001-tn.jpg
GEO:39.851944;-74.759195
X-APPLE-STRUCTURED-LOCATION;VALUE=URI;X-ADDRESS=Lord of Lutheran Church 1 Winchester Court Tabernacle NJ 08088 United States;X-APPLE-RADIUS=500;X-TITLE=1 Winchester Court:geo:-74.759195,39.851944
END:VEVENT
BEGIN:VEVENT
DTSTART;TZID=America/New_York:20190510T193000
DTEND;TZID=America/New_York:20190510T220000
DTSTAMP:20260421T130532
CREATED:20190410T135936Z
LAST-MODIFIED:20190423T033944Z
UID:10000128-1557516600-1557525600@southjerseyjazz.org
SUMMARY:Charlie Apicella & Iron City
DESCRIPTION:Charlie Apicella & Iron City\nCD release show for Groove Machine on Origin Records\nFeaturing:\nCharlie Apicella – guitar\nGene Ghee – tenor sax\nRadam Schwartz – organ\nAlan Korzin – drums
URL:https://southjerseyjazz.org/event/charlie-apicella-iron-city/
LOCATION:Lord of Lutheran Church\, 1 Winchester Court\, Tabernacle\, NJ\, 08088\, United States
CATEGORIES:Events
ATTACH;FMTTYPE=image/jpeg:https://southjerseyjazz.org/wp-content/uploads/2019/04/Groove-Machine-cover-.jpg
GEO:39.851944;-74.759195
X-APPLE-STRUCTURED-LOCATION;VALUE=URI;X-ADDRESS=Lord of Lutheran Church 1 Winchester Court Tabernacle NJ 08088 United States;X-APPLE-RADIUS=500;X-TITLE=1 Winchester Court:geo:-74.759195,39.851944
END:VEVENT
BEGIN:VEVENT
DTSTART;TZID=America/New_York:20190412T193000
DTEND;TZID=America/New_York:20190412T220000
DTSTAMP:20260421T130532
CREATED:20190405T141924Z
LAST-MODIFIED:20190405T142046Z
UID:10000126-1555097400-1555106400@southjerseyjazz.org
SUMMARY:Kyle Koehler Trio
DESCRIPTION:
URL:https://southjerseyjazz.org/event/kyle-koehler-trio/
LOCATION:Lord of Lutheran Church\, 1 Winchester Court\, Tabernacle\, NJ\, 08088\, United States
CATEGORIES:Events
ATTACH;FMTTYPE=image/jpeg:https://southjerseyjazz.org/wp-content/uploads/2019/04/April2019-page-tn.jpg
GEO:39.851944;-74.759195
X-APPLE-STRUCTURED-LOCATION;VALUE=URI;X-ADDRESS=Lord of Lutheran Church 1 Winchester Court Tabernacle NJ 08088 United States;X-APPLE-RADIUS=500;X-TITLE=1 Winchester Court:geo:-74.759195,39.851944
END:VEVENT
BEGIN:VEVENT
DTSTART;TZID=America/New_York:20190322T193000
DTEND;TZID=America/New_York:20190322T210000
DTSTAMP:20260421T130532
CREATED:20190319T134426Z
LAST-MODIFIED:20190319T134426Z
UID:10000122-1553283000-1553288400@southjerseyjazz.org
SUMMARY:Jerry Weldon Trio
DESCRIPTION:
URL:https://southjerseyjazz.org/event/jerry-weldon-trio/
LOCATION:Lord of Lutheran Church\, 1 Winchester Court\, Tabernacle\, NJ\, 08088\, United States
CATEGORIES:Events
ATTACH;FMTTYPE=image/jpeg:https://southjerseyjazz.org/wp-content/uploads/2019/03/March2019-page-001.jpg
GEO:39.851944;-74.759195
X-APPLE-STRUCTURED-LOCATION;VALUE=URI;X-ADDRESS=Lord of Lutheran Church 1 Winchester Court Tabernacle NJ 08088 United States;X-APPLE-RADIUS=500;X-TITLE=1 Winchester Court:geo:-74.759195,39.851944
END:VEVENT
BEGIN:VEVENT
DTSTART;TZID=America/New_York:20171110T193000
DTEND;TZID=America/New_York:20171110T220000
DTSTAMP:20260421T130532
CREATED:20171106T213100Z
LAST-MODIFIED:20171106T213157Z
UID:10000036-1510342200-1510351200@southjerseyjazz.org
SUMMARY:Frank Basile Quartet
DESCRIPTION:Frank Basile Quartet\nFeaturing:\n\nFrank Basile – baritone saxophone\nRichie Vitale – trumpet\nJared Gold – organ\nPeter Van Nostrand – drums\n\n\nFriday\, November 10th\nTickets: $20 ($15 Seniors\, $10 Students)\n7:30 – 10:00 PM\n\n\n\nLord of Life Lutheran Church\n1 Winchester Court\nTabernacle\, NJ\n609-268-0108\nwww.jazzandbluesshowcase.com
URL:https://southjerseyjazz.org/event/frank-basile-quartet/
LOCATION:Lord of Lutheran Church\, 1 Winchester Court\, Tabernacle\, NJ\, 08088\, United States
CATEGORIES:Events
ATTACH;FMTTYPE=image/jpeg:https://southjerseyjazz.org/wp-content/uploads/2017/11/November2017-2-sq.jpg
GEO:39.851944;-74.759195
X-APPLE-STRUCTURED-LOCATION;VALUE=URI;X-ADDRESS=Lord of Lutheran Church 1 Winchester Court Tabernacle NJ 08088 United States;X-APPLE-RADIUS=500;X-TITLE=1 Winchester Court:geo:-74.759195,39.851944
END:VEVENT
END:VCALENDAR