BEGIN:VCALENDAR
VERSION:2.0
PRODID:-//South Jersey Jazz Society - ECPv6.15.20//NONSGML v1.0//EN
CALSCALE:GREGORIAN
METHOD:PUBLISH
X-ORIGINAL-URL:https://southjerseyjazz.org
X-WR-CALDESC:Events for South Jersey Jazz Society
REFRESH-INTERVAL;VALUE=DURATION:PT1H
X-Robots-Tag:noindex
X-PUBLISHED-TTL:PT1H
BEGIN:VTIMEZONE
TZID:America/New_York
BEGIN:DAYLIGHT
TZOFFSETFROM:-0500
TZOFFSETTO:-0400
TZNAME:EDT
DTSTART:20250309T070000
END:DAYLIGHT
BEGIN:STANDARD
TZOFFSETFROM:-0400
TZOFFSETTO:-0500
TZNAME:EST
DTSTART:20251102T060000
END:STANDARD
BEGIN:DAYLIGHT
TZOFFSETFROM:-0500
TZOFFSETTO:-0400
TZNAME:EDT
DTSTART:20260308T070000
END:DAYLIGHT
BEGIN:STANDARD
TZOFFSETFROM:-0400
TZOFFSETTO:-0500
TZNAME:EST
DTSTART:20261101T060000
END:STANDARD
BEGIN:DAYLIGHT
TZOFFSETFROM:-0500
TZOFFSETTO:-0400
TZNAME:EDT
DTSTART:20270314T070000
END:DAYLIGHT
BEGIN:STANDARD
TZOFFSETFROM:-0400
TZOFFSETTO:-0500
TZNAME:EST
DTSTART:20271107T060000
END:STANDARD
END:VTIMEZONE
BEGIN:VEVENT
DTSTART;TZID=America/New_York:20260430T183000
DTEND;TZID=America/New_York:20260430T203000
DTSTAMP:20260420T094552
CREATED:20260123T234655Z
LAST-MODIFIED:20260124T025818Z
UID:10000424-1777573800-1777581000@southjerseyjazz.org
SUMMARY:2026 “George Mesterhazy” Jazz Master Award Honoring Bob Ferguson
DESCRIPTION:Buy Tickets\n			\n				\n				\n				\n				\n				The South Jersey Jazz Society is proud to announce that Bob Ferguson will be honored with the 2026 “George Mesterhazy” Jazz Master Award at a gala event to be held on April 30 at Linwood Country Club starting at 6:30 pm. Tickets for this event are $100 and include a four course buffet style dinner with your choice of short ribs\, roasted chicken breast\, or broiled salmon. \nOrder you tickets at: https://www.ticketleap.events/tickets/southjerseyjazz/2026-george-mesterhazy-jazz-master-honoring-bob-ferguson \nDon’t miss out on this fantastic evening filled with great music and good company. See you there! \nFor more information\, contact us or call 609-289-0326. \n			\n				\n				\n				\n				\n				Buy Tickets
URL:https://southjerseyjazz.org/event/2026-george-mesterhazy-jazz-master-award-honoring-bob-ferguson/
LOCATION:Linwood Country Club\, 500 Shore Rd\, Linwood\, 08221\, United States
CATEGORIES:Events
ATTACH;FMTTYPE=image/jpeg:https://southjerseyjazz.org/wp-content/uploads/2026/01/bob-tn.jpg
END:VEVENT
END:VCALENDAR