BEGIN:VCALENDAR
VERSION:2.0
PRODID:-//South Jersey Jazz Society - ECPv6.15.20//NONSGML v1.0//EN
CALSCALE:GREGORIAN
METHOD:PUBLISH
X-ORIGINAL-URL:https://southjerseyjazz.org
X-WR-CALDESC:Events for South Jersey Jazz Society
REFRESH-INTERVAL;VALUE=DURATION:PT1H
X-Robots-Tag:noindex
X-PUBLISHED-TTL:PT1H
BEGIN:VTIMEZONE
TZID:America/New_York
BEGIN:DAYLIGHT
TZOFFSETFROM:-0500
TZOFFSETTO:-0400
TZNAME:EDT
DTSTART:20200308T070000
END:DAYLIGHT
BEGIN:STANDARD
TZOFFSETFROM:-0400
TZOFFSETTO:-0500
TZNAME:EST
DTSTART:20201101T060000
END:STANDARD
BEGIN:DAYLIGHT
TZOFFSETFROM:-0500
TZOFFSETTO:-0400
TZNAME:EDT
DTSTART:20210314T070000
END:DAYLIGHT
BEGIN:STANDARD
TZOFFSETFROM:-0400
TZOFFSETTO:-0500
TZNAME:EST
DTSTART:20211107T060000
END:STANDARD
BEGIN:DAYLIGHT
TZOFFSETFROM:-0500
TZOFFSETTO:-0400
TZNAME:EDT
DTSTART:20220313T070000
END:DAYLIGHT
BEGIN:STANDARD
TZOFFSETFROM:-0400
TZOFFSETTO:-0500
TZNAME:EST
DTSTART:20221106T060000
END:STANDARD
END:VTIMEZONE
BEGIN:VEVENT
DTSTART;TZID=America/New_York:20210424T130000
DTEND;TZID=America/New_York:20210424T150000
DTSTAMP:20260421T151236
CREATED:20210326T031926Z
LAST-MODIFIED:20210326T153843Z
UID:10000184-1619269200-1619276400@southjerseyjazz.org
SUMMARY:The Budesa Brothers  with Chris Aschman
DESCRIPTION:  \n\nHere Comes the Sun\n \nThe Budesa Brothers with Chris Aschman on steel drums and trumpet\, Great Bay Gallery\, 829 Bay Ave. 1 p.m. until 3 \nThis is a free event! \nFree will donation will be accepted.  For more information about weekend call the jazz line at 609-927-6677.  This event is sponsored by The Somers Point Unique Experiences Club and SJ Jazz Society. \n 
URL:https://southjerseyjazz.org/event/the-budesa-brothers-with-chris-aschman/
LOCATION:Great Bay Art Gallery\, 829 Bay Ave\, Somers Point\, NJ\, 08244\, United States
CATEGORIES:Events
ATTACH;FMTTYPE=image/jpeg:https://southjerseyjazz.org/wp-content/uploads/2021/03/budesa-and-tom-feature.jpg
END:VEVENT
END:VCALENDAR