BEGIN:VCALENDAR
VERSION:2.0
PRODID:-//South Jersey Jazz Society - ECPv6.15.20//NONSGML v1.0//EN
CALSCALE:GREGORIAN
METHOD:PUBLISH
X-WR-CALNAME:South Jersey Jazz Society
X-ORIGINAL-URL:https://southjerseyjazz.org
X-WR-CALDESC:Events for South Jersey Jazz Society
REFRESH-INTERVAL;VALUE=DURATION:PT1H
X-Robots-Tag:noindex
X-PUBLISHED-TTL:PT1H
BEGIN:VTIMEZONE
TZID:America/New_York
BEGIN:DAYLIGHT
TZOFFSETFROM:-0500
TZOFFSETTO:-0400
TZNAME:EDT
DTSTART:20200308T070000
END:DAYLIGHT
BEGIN:STANDARD
TZOFFSETFROM:-0400
TZOFFSETTO:-0500
TZNAME:EST
DTSTART:20201101T060000
END:STANDARD
BEGIN:DAYLIGHT
TZOFFSETFROM:-0500
TZOFFSETTO:-0400
TZNAME:EDT
DTSTART:20210314T070000
END:DAYLIGHT
BEGIN:STANDARD
TZOFFSETFROM:-0400
TZOFFSETTO:-0500
TZNAME:EST
DTSTART:20211107T060000
END:STANDARD
BEGIN:DAYLIGHT
TZOFFSETFROM:-0500
TZOFFSETTO:-0400
TZNAME:EDT
DTSTART:20220313T070000
END:DAYLIGHT
BEGIN:STANDARD
TZOFFSETFROM:-0400
TZOFFSETTO:-0500
TZNAME:EST
DTSTART:20221106T060000
END:STANDARD
END:VTIMEZONE
BEGIN:VEVENT
DTSTART;TZID=America/New_York:20211003T090000
DTEND;TZID=America/New_York:20211003T110000
DTSTAMP:20260421T025955
CREATED:20210611T020559Z
LAST-MODIFIED:20210612T070354Z
UID:10000189-1633251600-1633258800@southjerseyjazz.org
SUMMARY:E. Shawn Qaissaunee Duo Jazz Breakfast
DESCRIPTION:OceanFirst Bank Foundation \nJazz @the Point 2021\nThe Annual Jazz Breakfast will be featuring The E. Shawn Qaissaunee Duo. \nFitzpatrick’s Deli & Steakhouse • 9-11AM \nFree Event!
URL:https://southjerseyjazz.org/event/e-shawn-qaissaunee-duo-jazz-breakfast/
LOCATION:Fitzpatricks Deli & Steakhouse\, 650 New Road\, Somers Point\, 08244
CATEGORIES:Events,Festival
ATTACH;FMTTYPE=image/jpeg:https://southjerseyjazz.org/wp-content/uploads/2020/10/E-Shawn-Q-300.jpg
END:VEVENT
END:VCALENDAR