BEGIN:VCALENDAR
VERSION:2.0
PRODID:-//South Jersey Jazz Society - ECPv6.15.20//NONSGML v1.0//EN
CALSCALE:GREGORIAN
METHOD:PUBLISH
X-ORIGINAL-URL:https://southjerseyjazz.org
X-WR-CALDESC:Events for South Jersey Jazz Society
REFRESH-INTERVAL;VALUE=DURATION:PT1H
X-Robots-Tag:noindex
X-PUBLISHED-TTL:PT1H
BEGIN:VTIMEZONE
TZID:America/New_York
BEGIN:DAYLIGHT
TZOFFSETFROM:-0500
TZOFFSETTO:-0400
TZNAME:EDT
DTSTART:20190310T070000
END:DAYLIGHT
BEGIN:STANDARD
TZOFFSETFROM:-0400
TZOFFSETTO:-0500
TZNAME:EST
DTSTART:20191103T060000
END:STANDARD
BEGIN:DAYLIGHT
TZOFFSETFROM:-0500
TZOFFSETTO:-0400
TZNAME:EDT
DTSTART:20200308T070000
END:DAYLIGHT
BEGIN:STANDARD
TZOFFSETFROM:-0400
TZOFFSETTO:-0500
TZNAME:EST
DTSTART:20201101T060000
END:STANDARD
BEGIN:DAYLIGHT
TZOFFSETFROM:-0500
TZOFFSETTO:-0400
TZNAME:EDT
DTSTART:20210314T070000
END:DAYLIGHT
BEGIN:STANDARD
TZOFFSETFROM:-0400
TZOFFSETTO:-0500
TZNAME:EST
DTSTART:20211107T060000
END:STANDARD
END:VTIMEZONE
BEGIN:VEVENT
DTSTART;TZID=America/New_York:20201115T090000
DTEND;TZID=America/New_York:20201115T110000
DTSTAMP:20260421T184720
CREATED:20201025T064346Z
LAST-MODIFIED:20201025T064638Z
UID:10000181-1605430800-1605438000@southjerseyjazz.org
SUMMARY:E. Shawn Qaissaunee Duo
DESCRIPTION:Nov 15   E. Shawn Qaissaunee Duo   (Madison Rast – Bass) \nFitzpatrick’s Deli & Steakhouse  \n650 New Rd Somers Point\, NJ \n609 653 8155 \nShowtime 9AM to 11AM \nFree!
URL:https://southjerseyjazz.org/event/e-shawn-qaissaunee-duo/
LOCATION:NJ\, United States
CATEGORIES:Events,Festival
ATTACH;FMTTYPE=image/jpeg:https://southjerseyjazz.org/wp-content/uploads/2020/10/E-Shawn-Q-300.jpg
END:VEVENT
END:VCALENDAR